Workbook

Sheet ConfrontoRendimenti
A1: Follow me: https://www.linkedin.com/in/andreasanta1983/
A2: *Il seguente file è un' utilità gratuita e completamente editabile. Chi lo scarica solleva da ogni responsabilità, implicita ed esplicita, derivante dal suo utilizzo.
A3: Confronto Rendimento Obbligazioni
A4: Descrizione | C4: Titolo 1 | D4: Titolo 2 | E4: Variazione
A5: DATA DI ACQUISTO | C5: 45132 | D5: 45132
A6: DATA RIMBORSO | C6: 62884 | D6: 45976
A7: QUANTITA' INVESTITA | C7: 10000 | D7: 10000 | E7: =IFERROR((D7/C7-1),"") -> 0
A8: PERCENTUALE RITENUTA FISCALE | C8: 0.125 | D8: 0.125 | E8: =IFERROR((D8/C8-1),"") -> 0
A9: PREZZO LORDO ACQUISTO | C9: 58.75 | D9: 97.7
A10: PREZZO DI RIMBORSO LORDO | C10: 100 | D10: 100
A11: RITENUTA FISCALE | C11: =IF(C10-C9>0,C8*(C10-C9),0) -> 5.15625 | D11: =IF(D10-D9>0,D8*(D10-D9),0) -> 0.2875
A12: PREZZO DI RIMBORSO NETTO | C12: =IF(C10-C9>0,C10-(C10-C9)*C8,C10) -> 94.84375 | D12: =IF(D10-D9>0,D10-(D10-D9)*D8,D10) -> 99.7125
A13: NUM.CEDOLE ANNUALI | C13: 2 | D13: 2
A14: TASSO LORDO INTERESSE | C14: 0.0215 | D14: 0.025
A15: TASSO NOMINALE NETTO | C15: =C14-(C14*C8) -> 0.0188125 | D15: =D14-(D14*D8) -> 0.021875 | E15: =IFERROR((D15/C15-1),"") -> 0.1627907
A16: DATA ULTIMA CEDOLA | C16: =COUPPCD(C5,C6,C13,1) -> 44986 | D16: =COUPPCD(D5,D6,D13,1) -> 45061
A17: DATA PROSSIMA CEDOLA | C17: =COUPNCD(C5,C6,C13,1) -> 45170 | D17: =COUPNCD(D5,D6,D13,1) -> 45245
A18: RATEO LORDO PERCENTUALE | C18: =(C5-C16)/(C17-C16)/C13*C14 -> 0.0085298913 | D18: =(D5-D16)/(D17-D16)/D13*D14 -> 0.0048233696
A19: RATEO NETTO PERCENTUALE | C19: =C18*(1-C8) -> 0.0074636549 | D19: =D18*(1-D8) -> 0.0042204484
A20: COMMISSIONI INVESTIMENTO | E20: =IFERROR((D20/C20-1),"")
A21: CAPITALE INVESTITO | C21: =(C7*C9)/100+C20 -> 5875 | D21: =(D7*D9)/100+D20 -> 9770 | E21: =IFERROR((D21/C21-1),"") -> 0.66297872
A22: RATEO NETTO MATURATO | C22: =C23-C24 -> 74.636549 | D22: =D23-D24 -> 42.204484
A23: RATEO LORDO MATURATO | C23: =C18*C7 -> 85.298913 | D23: =D18*D7 -> 48.233696
A24: RITENUTE | C24: =(C18-C19)*C7 -> 10.662364 | D24: =(D18-D19)*D7 -> 6.029212
A25: TOTALE INVESTITO | C25: =C21+C22+C20 -> 5949.6365 | D25: =D21+D22+D20 -> 9812.2045 | E25: =IFERROR((D25/C25-1),"") -> 0.64921074
A26: INTERESSI | C26: =SUM(FlussiInteressi!D2:D230)+C21+C22-C27 -> 9218.125 | D26: =SUM(FlussiInteressi!G2:G230)+D21+D22-D27 -> 546.875 | E26: =IFERROR((D26/C26-1),"") -> -0.94067394
A27: RIMBORSO CAPITALE INVESTITO | C27: =C28-C29 -> 9484.375 | D27: =(D7*D12)/100 -> 9971.25 | E27: =IFERROR((D27/C27-1),"") -> 0.051334432
A28: RIMBORSO LORDO | C28: =C7*C10/100 -> 10000 | D28: =D10*D7/100 -> 10000 | E28: =(C28/D28-1) -> 0
A29: RITENUTE | C29: =C28-(C7*C12)/100 -> 515.625 | D29: =D28-(D7*D12)/100 -> 28.75 | E29: =(C29/D29-1) -> 16.934783
A30: TOTALE RIMBORSO | C30: =C26+C27 -> 18702.5 | D30: =D26+D27 -> 10518.125 | E30: =IFERROR((D30/C30-1),"") -> -0.43760861
A31: TOTALE GUADAGNO NETTO | C31: =C27+C26-C22-C21 -> 12752.863 | D31: =D27+D26-D22-D21 -> 705.92052 | E31: =IFERROR((D31/C31-1),"") -> -0.94464612
A32: DURATA DA DATA DI ACQUISTO | C32: =(C6-C5)/365 -> 48.635616 | D32: =(D6-D5)/365 -> 2.3123288 | E32: =IFERROR((D32/C32-1),"") -> -0.95245606
A33: DURATA RESIDUA AL | B33: =TODAY() -> 45136 | C33: =IF(C6-B33>0,(C6-B33)/365,0) -> 48.624658 | D33: =IF(D6-B33>0,(D6-B33)/365,0) -> 2.3013699 | E33: =IFERROR((D33/C33-1),"") -> -0.95267072
A34: RENDIMENTO MEDIO | C34: =(-C31)/FlussiInteressi!D2/C32 -> 0.044072009 | D34: =(-D31)/FlussiInteressi!G2/D32 -> 0.031112838 | E34: =IFERROR((D34/C34-1),"") -> -0.29404538
A35: RENDIMENTO CON TIR.X | C35: =XIRR(FlussiInteressi!D2:D230,FlussiInteressi!B2:B230) -> 0.036978123 | D35: =XIRR(FlussiInteressi!G2:G230,FlussiInteressi!E2:E230) -> 0.03123109 | E35: =IFERROR((D35/C35-1),"") -> -0.15541709

Sheet FlussiInteressi
B1: Data Flusso Capitale | C1: Cedola Netta | D1: Flusso Capitale | E1: Data Flusso Capitale | F1: Cedola Netta | G1: Flusso Capitale
B2: =ConfrontoRendimenti!C5 -> 45132 | D2: =-ConfrontoRendimenti!C21-ConfrontoRendimenti!C22 -> -5949.6365 | E2: =ConfrontoRendimenti!D5 -> 45132 | G2: =-ConfrontoRendimenti!D21-ConfrontoRendimenti!D22 -> -9812.2045
B3: =IF(ConfrontoRendimenti!$C$13=0,ConfrontoRendimenti!C6,ConfrontoRendimenti!C17) -> 45170 | C3: =IF(ConfrontoRendimenti!$C$13=0,0,IF(B3=0,0,ConfrontoRendimenti!$C$15/ConfrontoRendimenti!$C$13)) -> 0.00940625 | D3: =IF(B3=ConfrontoRendimenti!$C$6,C3*100+ConfrontoRendimenti!$C$12,IF(B3<ConfrontoRendimenti!$C$6,C3*100,0))*ConfrontoRendimenti!$C$7/100 -> 94.0625 | E3: =IF(ConfrontoRendimenti!$D$13=0,ConfrontoRendimenti!D6,ConfrontoRendimenti!D17) -> 45245 | F3: =IF(ConfrontoRendimenti!$D$13=0,0,IF(E3=0,0,ConfrontoRendimenti!$D$15/ConfrontoRendimenti!$D$13)) -> 0.0109375 | G3: =IF(E3=ConfrontoRendimenti!$D$6,F3*100+ConfrontoRendimenti!$D$12,IF(E3<ConfrontoRendimenti!$D$6,F3*100,0))*ConfrontoRendimenti!$D$7/100 -> 109.375
B4: =IF(B3=0,0,IF(B3=ConfrontoRendimenti!$C$6,0,EDATE(B3,12/ConfrontoRendimenti!$C$13))) -> 45352 | C4: =IF(ConfrontoRendimenti!$C$13=0,0,IF(B4=0,0,ConfrontoRendimenti!$C$15/ConfrontoRendimenti!$C$13)) -> 0.00940625 | D4: =IF(B4=ConfrontoRendimenti!$C$6,C4*100+ConfrontoRendimenti!$C$12,IF(B4<ConfrontoRendimenti!$C$6,C4*100,0))*ConfrontoRendimenti!$C$7/100 -> 94.0625 | E4: =IF(E3=0,0,IF(E3=ConfrontoRendimenti!$D$6,0,EDATE(E3,12/ConfrontoRendimenti!$D$13))) -> 45427 | F4: =IF(ConfrontoRendimenti!$D$13=0,0,IF(E4=0,0,ConfrontoRendimenti!$D$15/ConfrontoRendimenti!$D$13)) -> 0.0109375 | G4: =IF(E4=ConfrontoRendimenti!$D$6,F4*100+ConfrontoRendimenti!$D$12,IF(E4<ConfrontoRendimenti!$D$6,F4*100,0))*ConfrontoRendimenti!$D$7/100 -> 109.375
B5: =IF(B4=0,0,IF(B4=ConfrontoRendimenti!$C$6,0,EDATE(B4,12/ConfrontoRendimenti!$C$13))) -> 45536 | C5: =IF(ConfrontoRendimenti!$C$13=0,0,IF(B5=0,0,ConfrontoRendimenti!$C$15/ConfrontoRendimenti!$C$13)) -> 0.00940625 | D5: =IF(B5=ConfrontoRendimenti!$C$6,C5*100+ConfrontoRendimenti!$C$12,IF(B5<ConfrontoRendimenti!$C$6,C5*100,0))*ConfrontoRendimenti!$C$7/100 -> 94.0625 | E5: =IF(E4=0,0,IF(E4=ConfrontoRendimenti!$D$6,0,EDATE(E4,12/ConfrontoRendimenti!$D$13))) -> 45611 | F5: =IF(ConfrontoRendimenti!$D$13=0,0,IF(E5=0,0,ConfrontoRendimenti!$D$15/ConfrontoRendimenti!$D$13)) -> 0.0109375 | G5: =IF(E5=ConfrontoRendimenti!$D$6,F5*100+ConfrontoRendimenti!$D$12,IF(E5<ConfrontoRendimenti!$D$6,F5*100,0))*ConfrontoRendimenti!$D$7/100 -> 109.375
B6: =IF(B5=0,0,IF(B5=ConfrontoRendimenti!$C$6,0,EDATE(B5,12/ConfrontoRendimenti!$C$13))) -> 45717 | C6: =IF(ConfrontoRendimenti!$C$13=0,0,IF(B6=0,0,ConfrontoRendimenti!$C$15/ConfrontoRendimenti!$C$13)) -> 0.00940625 | D6: =IF(B6=ConfrontoRendimenti!$C$6,C6*100+ConfrontoRendimenti!$C$12,IF(B6<ConfrontoRendimenti!$C$6,C6*100,0))*ConfrontoRendimenti!$C$7/100 -> 94.0625 | E6: =IF(E5=0,0,IF(E5=ConfrontoRendimenti!$D$6,0,EDATE(E5,12/ConfrontoRendimenti!$D$13))) -> 45792 | F6: =IF(ConfrontoRendimenti!$D$13=0,0,IF(E6=0,0,ConfrontoRendimenti!$D$15/ConfrontoRendimenti!$D$13)) -> 0.0109375 | G6: =IF(E6=ConfrontoRendimenti!$D$6,F6*100+ConfrontoRendimenti!$D$12,IF(E6<ConfrontoRendimenti!$D$6,F6*100,0))*ConfrontoRendimenti!$D$7/100 -> 109.375
B7: =IF(B6=0,0,IF(B6=ConfrontoRendimenti!$C$6,0,EDATE(B6,12/ConfrontoRendimenti!$C$13))) -> 45901 | C7: =IF(ConfrontoRendimenti!$C$13=0,0,IF(B7=0,0,ConfrontoRendimenti!$C$15/ConfrontoRendimenti!$C$13)) -> 0.00940625 | D7: =IF(B7=ConfrontoRendimenti!$C$6,C7*100+ConfrontoRendimenti!$C$12,IF(B7<ConfrontoRendimenti!$C$6,C7*100,0))*ConfrontoRendimenti!$C$7/100 -> 94.0625 | E7: =IF(E6=0,0,IF(E6=ConfrontoRendimenti!$D$6,0,EDATE(E6,12/ConfrontoRendimenti!$D$13))) -> 45976 | F7: =IF(ConfrontoRendimenti!$D$13=0,0,IF(E7=0,0,ConfrontoRendimenti!$D$15/ConfrontoRendimenti!$D$13)) -> 0.0109375 | G7: =IF(E7=ConfrontoRendimenti!$D$6,F7*100+ConfrontoRendimenti!$D$12,IF(E7<ConfrontoRendimenti!$D$6,F7*100,0))*ConfrontoRendimenti!$D$7/100 -> 10080.625
B8: =IF(B7=0,0,IF(B7=ConfrontoRendimenti!$C$6,0,EDATE(B7,12/ConfrontoRendimenti!$C$13))) -> 46082 | C8: =IF(ConfrontoRendimenti!$C$13=0,0,IF(B8=0,0,ConfrontoRendimenti!$C$15/ConfrontoRendimenti!$C$13)) -> 0.00940625 | D8: =IF(B8=ConfrontoRendimenti!$C$6,C8*100+ConfrontoRendimenti!$C$12,IF(B8<ConfrontoRendimenti!$C$6,C8*100,0))*ConfrontoRendimenti!$C$7/100 -> 94.0625 | E8: =IF(E7=0,0,IF(E7=ConfrontoRendimenti!$D$6,0,EDATE(E7,12/ConfrontoRendimenti!$D$13))) -> 0 | F8: =IF(ConfrontoRendimenti!$D$13=0,0,IF(E8=0,0,ConfrontoRendimenti!$D$15/ConfrontoRendimenti!$D$13)) -> 0 | G8: =IF(E8=ConfrontoRendimenti!$D$6,F8*100+ConfrontoRendimenti!$D$12,IF(E8<ConfrontoRendimenti!$D$6,F8*100,0))*ConfrontoRendimenti!$D$7/100 -> 0
B9: =IF(B8=0,0,IF(B8=ConfrontoRendimenti!$C$6,0,EDATE(B8,12/ConfrontoRendimenti!$C$13))) -> 46266 | C9: =IF(ConfrontoRendimenti!$C$13=0,0,IF(B9=0,0,ConfrontoRendimenti!$C$15/ConfrontoRendimenti!$C$13)) -> 0.00940625 | D9: =IF(B9=ConfrontoRendimenti!$C$6,C9*100+ConfrontoRendimenti!$C$12,IF(B9<ConfrontoRendimenti!$C$6,C9*100,0))*ConfrontoRendimenti!$C$7/100 -> 94.0625 | E9: =IF(E8=0,0,IF(E8=ConfrontoRendimenti!$D$6,0,EDATE(E8,12/ConfrontoRendimenti!$D$13))) -> 0 | F9: =IF(ConfrontoRendimenti!$D$13=0,0,IF(E9=0,0,ConfrontoRendimenti!$D$15/ConfrontoRendimenti!$D$13)) -> 0 | G9: =IF(E9=ConfrontoRendimenti!$D$6,F9*100+ConfrontoRendimenti!$D$12,IF(E9<ConfrontoRendimenti!$D$6,F9*100,0))*ConfrontoRendimenti!$D$7/100 -> 0
B10: =IF(B9=0,0,IF(B9=ConfrontoRendimenti!$C$6,0,EDATE(B9,12/ConfrontoRendimenti!$C$13))) -> 46447 | C10: =IF(ConfrontoRendimenti!$C$13=0,0,IF(B10=0,0,ConfrontoRendimenti!$C$15/ConfrontoRendimenti!$C$13)) -> 0.00940625 | D10: =IF(B10=ConfrontoRendimenti!$C$6,C10*100+ConfrontoRendimenti!$C$12,IF(B10<ConfrontoRendimenti!$C$6,C10*100,0))*ConfrontoRendimenti!$C$7/100 -> 94.0625 | E10: =IF(E9=0,0,IF(E9=ConfrontoRendimenti!$D$6,0,EDATE(E9,12/ConfrontoRendimenti!$D$13))) -> 0 | F10: =IF(ConfrontoRendimenti!$D$13=0,0,IF(E10=0,0,ConfrontoRendimenti!$D$15/ConfrontoRendimenti!$D$13)) -> 0 | G10: =IF(E10=ConfrontoRendimenti!$D$6,F10*100+ConfrontoRendimenti!$D$12,IF(E10<ConfrontoRendimenti!$D$6,F10*100,0))*ConfrontoRendimenti!$D$7/100 -> 0
B11: =IF(B10=0,0,IF(B10=ConfrontoRendimenti!$C$6,0,EDATE(B10,12/ConfrontoRendimenti!$C$13))) -> 46631 | C11: =IF(ConfrontoRendimenti!$C$13=0,0,IF(B11=0,0,ConfrontoRendimenti!$C$15/ConfrontoRendimenti!$C$13)) -> 0.00940625 | D11: =IF(B11=ConfrontoRendimenti!$C$6,C11*100+ConfrontoRendimenti!$C$12,IF(B11<ConfrontoRendimenti!$C$6,C11*100,0))*ConfrontoRendimenti!$C$7/100 -> 94.0625 | E11: =IF(E10=0,0,IF(E10=ConfrontoRendimenti!$D$6,0,EDATE(E10,12/ConfrontoRendimenti!$D$13))) -> 0 | F11: =IF(ConfrontoRendimenti!$D$13=0,0,IF(E11=0,0,ConfrontoRendimenti!$D$15/ConfrontoRendimenti!$D$13)) -> 0 | G11: =IF(E11=ConfrontoRendimenti!$D$6,F11*100+ConfrontoRendimenti!$D$12,IF(E11<ConfrontoRendimenti!$D$6,F11*100,0))*ConfrontoRendimenti!$D$7/100 -> 0
B12: =IF(B11=0,0,IF(B11=ConfrontoRendimenti!$C$6,0,EDATE(B11,12/ConfrontoRendimenti!$C$13))) -> 46813 | C12: =IF(ConfrontoRendimenti!$C$13=0,0,IF(B12=0,0,ConfrontoRendimenti!$C$15/ConfrontoRendimenti!$C$13)) -> 0.00940625 | D12: =IF(B12=ConfrontoRendimenti!$C$6,C12*100+ConfrontoRendimenti!$C$12,IF(B12<ConfrontoRendimenti!$C$6,C12*100,0))*ConfrontoRendimenti!$C$7/100 -> 94.0625 | E12: =IF(E11=0,0,IF(E11=ConfrontoRendimenti!$D$6,0,EDATE(E11,12/ConfrontoRendimenti!$D$13))) -> 0 | F12: =IF(ConfrontoRendimenti!$D$13=0,0,IF(E12=0,0,ConfrontoRendimenti!$D$15/ConfrontoRendimenti!$D$13)) -> 0 | G12: =IF(E12=ConfrontoRendimenti!$D$6,F12*100+ConfrontoRendimenti!$D$12,IF(E12<ConfrontoRendimenti!$D$6,F12*100,0))*ConfrontoRendimenti!$D$7/100 -> 0
B13: =IF(B12=0,0,IF(B12=ConfrontoRendimenti!$C$6,0,EDATE(B12,12/ConfrontoRendimenti!$C$13))) -> 46997 | C13: =IF(ConfrontoRendimenti!$C$13=0,0,IF(B13=0,0,ConfrontoRendimenti!$C$15/ConfrontoRendimenti!$C$13)) -> 0.00940625 | D13: =IF(B13=ConfrontoRendimenti!$C$6,C13*100+ConfrontoRendimenti!$C$12,IF(B13<ConfrontoRendimenti!$C$6,C13*100,0))*ConfrontoRendimenti!$C$7/100 -> 94.0625 | E13: =IF(E12=0,0,IF(E12=ConfrontoRendimenti!$D$6,0,EDATE(E12,12/ConfrontoRendimenti!$D$13))) -> 0 | F13: =IF(ConfrontoRendimenti!$D$13=0,0,IF(E13=0,0,ConfrontoRendimenti!$D$15/ConfrontoRendimenti!$D$13)) -> 0 | G13: =IF(E13=ConfrontoRendimenti!$D$6,F13*100+ConfrontoRendimenti!$D$12,IF(E13<ConfrontoRendimenti!$D$6,F13*100,0))*ConfrontoRendimenti!$D$7/100 -> 0
B14: =IF(B13=0,0,IF(B13=ConfrontoRendimenti!$C$6,0,EDATE(B13,12/ConfrontoRendimenti!$C$13))) -> 47178 | C14: =IF(ConfrontoRendimenti!$C$13=0,0,IF(B14=0,0,ConfrontoRendimenti!$C$15/ConfrontoRendimenti!$C$13)) -> 0.00940625 | D14: =IF(B14=ConfrontoRendimenti!$C$6,C14*100+ConfrontoRendimenti!$C$12,IF(B14<ConfrontoRendimenti!$C$6,C14*100,0))*ConfrontoRendimenti!$C$7/100 -> 94.0625 | E14: =IF(E13=0,0,IF(E13=ConfrontoRendimenti!$D$6,0,EDATE(E13,12/ConfrontoRendimenti!$D$13))) -> 0 | F14: =IF(ConfrontoRendimenti!$D$13=0,0,IF(E14=0,0,ConfrontoRendimenti!$D$15/ConfrontoRendimenti!$D$13)) -> 0 | G14: =IF(E14=ConfrontoRendimenti!$D$6,F14*100+ConfrontoRendimenti!$D$12,IF(E14<ConfrontoRendimenti!$D$6,F14*100,0))*ConfrontoRendimenti!$D$7/100 -> 0
B15: =IF(B14=0,0,IF(B14=ConfrontoRendimenti!$C$6,0,EDATE(B14,12/ConfrontoRendimenti!$C$13))) -> 47362 | C15: =IF(ConfrontoRendimenti!$C$13=0,0,IF(B15=0,0,ConfrontoRendimenti!$C$15/ConfrontoRendimenti!$C$13)) -> 0.00940625 | D15: =IF(B15=ConfrontoRendimenti!$C$6,C15*100+ConfrontoRendimenti!$C$12,IF(B15<ConfrontoRendimenti!$C$6,C15*100,0))*ConfrontoRendimenti!$C$7/100 -> 94.0625 | E15: =IF(E14=0,0,IF(E14=ConfrontoRendimenti!$D$6,0,EDATE(E14,12/ConfrontoRendimenti!$D$13))) -> 0 | F15: =IF(ConfrontoRendimenti!$D$13=0,0,IF(E15=0,0,ConfrontoRendimenti!$D$15/ConfrontoRendimenti!$D$13)) -> 0 | G15: =IF(E15=ConfrontoRendimenti!$D$6,F15*100+ConfrontoRendimenti!$D$12,IF(E15<ConfrontoRendimenti!$D$6,F15*100,0))*ConfrontoRendimenti!$D$7/100 -> 0
... B97: =IF(B96=0,0,IF(B96=ConfrontoRendimenti!$C$6,0,EDATE(B96,12/ConfrontoRendimenti!$C$13))) -> 62337 | C97: =IF(ConfrontoRendimenti!$C$13=0,0,IF(B97=0,0,ConfrontoRendimenti!$C$15/ConfrontoRendimenti!$C$13)) -> 0.00940625 | D97: =IF(B97=ConfrontoRendimenti!$C$6,C97*100+ConfrontoRendimenti!$C$12,IF(B97<ConfrontoRendimenti!$C$6,C97*100,0))*ConfrontoRendimenti!$C$7/100 -> 94.0625 | E97: =IF(E96=0,0,IF(E96=ConfrontoRendimenti!$D$6,0,EDATE(E96,12/ConfrontoRendimenti!$D$13))) -> 0 | F97: =IF(ConfrontoRendimenti!$D$13=0,0,IF(E97=0,0,ConfrontoRendimenti!$D$15/ConfrontoRendimenti!$D$13)) -> 0 | G97: =IF(E97=ConfrontoRendimenti!$D$6,F97*100+ConfrontoRendimenti!$D$12,IF(E97<ConfrontoRendimenti!$D$6,F97*100,0))*ConfrontoRendimenti!$D$7/100 -> 0
B98: =IF(B97=0,0,IF(B97=ConfrontoRendimenti!$C$6,0,EDATE(B97,12/ConfrontoRendimenti!$C$13))) -> 62518 | C98: =IF(ConfrontoRendimenti!$C$13=0,0,IF(B98=0,0,ConfrontoRendimenti!$C$15/ConfrontoRendimenti!$C$13)) -> 0.00940625 | D98: =IF(B98=ConfrontoRendimenti!$C$6,C98*100+ConfrontoRendimenti!$C$12,IF(B98<ConfrontoRendimenti!$C$6,C98*100,0))*ConfrontoRendimenti!$C$7/100 -> 94.0625 | E98: =IF(E97=0,0,IF(E97=ConfrontoRendimenti!$D$6,0,EDATE(E97,12/ConfrontoRendimenti!$D$13))) -> 0 | F98: =IF(ConfrontoRendimenti!$D$13=0,0,IF(E98=0,0,ConfrontoRendimenti!$D$15/ConfrontoRendimenti!$D$13)) -> 0 | G98: =IF(E98=ConfrontoRendimenti!$D$6,F98*100+ConfrontoRendimenti!$D$12,IF(E98<ConfrontoRendimenti!$D$6,F98*100,0))*ConfrontoRendimenti!$D$7/100 -> 0 | M98: =18702/5949 -> 3.1437216
B99: =IF(B98=0,0,IF(B98=ConfrontoRendimenti!$C$6,0,EDATE(B98,12/ConfrontoRendimenti!$C$13))) -> 62702 | C99: =IF(ConfrontoRendimenti!$C$13=0,0,IF(B99=0,0,ConfrontoRendimenti!$C$15/ConfrontoRendimenti!$C$13)) -> 0.00940625 | D99: =IF(B99=ConfrontoRendimenti!$C$6,C99*100+ConfrontoRendimenti!$C$12,IF(B99<ConfrontoRendimenti!$C$6,C99*100,0))*ConfrontoRendimenti!$C$7/100 -> 94.0625 | E99: =IF(E98=0,0,IF(E98=ConfrontoRendimenti!$D$6,0,EDATE(E98,12/ConfrontoRendimenti!$D$13))) -> 0 | F99: =IF(ConfrontoRendimenti!$D$13=0,0,IF(E99=0,0,ConfrontoRendimenti!$D$15/ConfrontoRendimenti!$D$13)) -> 0 | G99: =IF(E99=ConfrontoRendimenti!$D$6,F99*100+ConfrontoRendimenti!$D$12,IF(E99<ConfrontoRendimenti!$D$6,F99*100,0))*ConfrontoRendimenti!$D$7/100 -> 0
B100: =IF(B99=0,0,IF(B99=ConfrontoRendimenti!$C$6,0,EDATE(B99,12/ConfrontoRendimenti!$C$13))) -> 62884 | C100: =IF(ConfrontoRendimenti!$C$13=0,0,IF(B100=0,0,ConfrontoRendimenti!$C$15/ConfrontoRendimenti!$C$13)) -> 0.00940625 | D100: =IF(B100=ConfrontoRendimenti!$C$6,C100*100+ConfrontoRendimenti!$C$12,IF(B100<ConfrontoRendimenti!$C$6,C100*100,0))*ConfrontoRendimenti!$C$7/100 -> 9578.4375 | E100: =IF(E99=0,0,IF(E99=ConfrontoRendimenti!$D$6,0,EDATE(E99,12/ConfrontoRendimenti!$D$13))) -> 0 | F100: =IF(ConfrontoRendimenti!$D$13=0,0,IF(E100=0,0,ConfrontoRendimenti!$D$15/ConfrontoRendimenti!$D$13)) -> 0 | G100: =IF(E100=ConfrontoRendimenti!$D$6,F100*100+ConfrontoRendimenti!$D$12,IF(E100<ConfrontoRendimenti!$D$6,F100*100,0))*ConfrontoRendimenti!$D$7/100 -> 0
B101: =IF(B100=0,0,IF(B100=ConfrontoRendimenti!$C$6,0,EDATE(B100,12/ConfrontoRendimenti!$C$13))) -> 0 | C101: =IF(ConfrontoRendimenti!$C$13=0,0,IF(B101=0,0,ConfrontoRendimenti!$C$15/ConfrontoRendimenti!$C$13)) -> 0 | D101: =IF(B101=ConfrontoRendimenti!$C$6,C101*100+ConfrontoRendimenti!$C$12,IF(B101<ConfrontoRendimenti!$C$6,C101*100,0))*ConfrontoRendimenti!$C$7/100 -> 0 | E101: =IF(E100=0,0,IF(E100=ConfrontoRendimenti!$D$6,0,EDATE(E100,12/ConfrontoRendimenti!$D$13))) -> 0 | F101: =IF(ConfrontoRendimenti!$D$13=0,0,IF(E101=0,0,ConfrontoRendimenti!$D$15/ConfrontoRendimenti!$D$13)) -> 0 | G101: =IF(E101=ConfrontoRendimenti!$D$6,F101*100+ConfrontoRendimenti!$D$12,IF(E101<ConfrontoRendimenti!$D$6,F101*100,0))*ConfrontoRendimenti!$D$7/100 -> 0
B102: =IF(B101=0,0,IF(B101=ConfrontoRendimenti!$C$6,0,EDATE(B101,12/ConfrontoRendimenti!$C$13))) -> 0 | C102: =IF(ConfrontoRendimenti!$C$13=0,0,IF(B102=0,0,ConfrontoRendimenti!$C$15/ConfrontoRendimenti!$C$13)) -> 0 | D102: =IF(B102=ConfrontoRendimenti!$C$6,C102*100+ConfrontoRendimenti!$C$12,IF(B102<ConfrontoRendimenti!$C$6,C102*100,0))*ConfrontoRendimenti!$C$7/100 -> 0 | E102: =IF(E101=0,0,IF(E101=ConfrontoRendimenti!$D$6,0,EDATE(E101,12/ConfrontoRendimenti!$D$13))) -> 0 | F102: =IF(ConfrontoRendimenti!$D$13=0,0,IF(E102=0,0,ConfrontoRendimenti!$D$15/ConfrontoRendimenti!$D$13)) -> 0 | G102: =IF(E102=ConfrontoRendimenti!$D$6,F102*100+ConfrontoRendimenti!$D$12,IF(E102<ConfrontoRendimenti!$D$6,F102*100,0))*ConfrontoRendimenti!$D$7/100 -> 0
B103: =IF(B102=0,0,IF(B102=ConfrontoRendimenti!$C$6,0,EDATE(B102,12/ConfrontoRendimenti!$C$13))) -> 0 | C103: =IF(ConfrontoRendimenti!$C$13=0,0,IF(B103=0,0,ConfrontoRendimenti!$C$15/ConfrontoRendimenti!$C$13)) -> 0 | D103: =IF(B103=ConfrontoRendimenti!$C$6,C103*100+ConfrontoRendimenti!$C$12,IF(B103<ConfrontoRendimenti!$C$6,C103*100,0))*ConfrontoRendimenti!$C$7/100 -> 0 | E103: =IF(E102=0,0,IF(E102=ConfrontoRendimenti!$D$6,0,EDATE(E102,12/ConfrontoRendimenti!$D$13))) -> 0 | F103: =IF(ConfrontoRendimenti!$D$13=0,0,IF(E103=0,0,ConfrontoRendimenti!$D$15/ConfrontoRendimenti!$D$13)) -> 0 | G103: =IF(E103=ConfrontoRendimenti!$D$6,F103*100+ConfrontoRendimenti!$D$12,IF(E103<ConfrontoRendimenti!$D$6,F103*100,0))*ConfrontoRendimenti!$D$7/100 -> 0
B104: =IF(B103=0,0,IF(B103=ConfrontoRendimenti!$C$6,0,EDATE(B103,12/ConfrontoRendimenti!$C$13))) -> 0 | C104: =IF(ConfrontoRendimenti!$C$13=0,0,IF(B104=0,0,ConfrontoRendimenti!$C$15/ConfrontoRendimenti!$C$13)) -> 0 | D104: =IF(B104=ConfrontoRendimenti!$C$6,C104*100+ConfrontoRendimenti!$C$12,IF(B104<ConfrontoRendimenti!$C$6,C104*100,0))*ConfrontoRendimenti!$C$7/100 -> 0 | E104: =IF(E103=0,0,IF(E103=ConfrontoRendimenti!$D$6,0,EDATE(E103,12/ConfrontoRendimenti!$D$13))) -> 0 | F104: =IF(ConfrontoRendimenti!$D$13=0,0,IF(E104=0,0,ConfrontoRendimenti!$D$15/ConfrontoRendimenti!$D$13)) -> 0 | G104: =IF(E104=ConfrontoRendimenti!$D$6,F104*100+ConfrontoRendimenti!$D$12,IF(E104<ConfrontoRendimenti!$D$6,F104*100,0))*ConfrontoRendimenti!$D$7/100 -> 0
B105: =IF(B104=0,0,IF(B104=ConfrontoRendimenti!$C$6,0,EDATE(B104,12/ConfrontoRendimenti!$C$13))) -> 0 | C105: =IF(ConfrontoRendimenti!$C$13=0,0,IF(B105=0,0,ConfrontoRendimenti!$C$15/ConfrontoRendimenti!$C$13)) -> 0 | D105: =IF(B105=ConfrontoRendimenti!$C$6,C105*100+ConfrontoRendimenti!$C$12,IF(B105<ConfrontoRendimenti!$C$6,C105*100,0))*ConfrontoRendimenti!$C$7/100 -> 0 | E105: =IF(E104=0,0,IF(E104=ConfrontoRendimenti!$D$6,0,EDATE(E104,12/ConfrontoRendimenti!$D$13))) -> 0 | F105: =IF(ConfrontoRendimenti!$D$13=0,0,IF(E105=0,0,ConfrontoRendimenti!$D$15/ConfrontoRendimenti!$D$13)) -> 0 | G105: =IF(E105=ConfrontoRendimenti!$D$6,F105*100+ConfrontoRendimenti!$D$12,IF(E105<ConfrontoRendimenti!$D$6,F105*100,0))*ConfrontoRendimenti!$D$7/100 -> 0
B106: =IF(B105=0,0,IF(B105=ConfrontoRendimenti!$C$6,0,EDATE(B105,12/ConfrontoRendimenti!$C$13))) -> 0 | C106: =IF(ConfrontoRendimenti!$C$13=0,0,IF(B106=0,0,ConfrontoRendimenti!$C$15/ConfrontoRendimenti!$C$13)) -> 0 | D106: =IF(B106=ConfrontoRendimenti!$C$6,C106*100+ConfrontoRendimenti!$C$12,IF(B106<ConfrontoRendimenti!$C$6,C106*100,0))*ConfrontoRendimenti!$C$7/100 -> 0 | E106: =IF(E105=0,0,IF(E105=ConfrontoRendimenti!$D$6,0,EDATE(E105,12/ConfrontoRendimenti!$D$13))) -> 0 | F106: =IF(ConfrontoRendimenti!$D$13=0,0,IF(E106=0,0,ConfrontoRendimenti!$D$15/ConfrontoRendimenti!$D$13)) -> 0 | G106: =IF(E106=ConfrontoRendimenti!$D$6,F106*100+ConfrontoRendimenti!$D$12,IF(E106<ConfrontoRendimenti!$D$6,F106*100,0))*ConfrontoRendimenti!$D$7/100 -> 0
B107: =IF(B106=0,0,IF(B106=ConfrontoRendimenti!$C$6,0,EDATE(B106,12/ConfrontoRendimenti!$C$13))) -> 0 | C107: =IF(ConfrontoRendimenti!$C$13=0,0,IF(B107=0,0,ConfrontoRendimenti!$C$15/ConfrontoRendimenti!$C$13)) -> 0 | D107: =IF(B107=ConfrontoRendimenti!$C$6,C107*100+ConfrontoRendimenti!$C$12,IF(B107<ConfrontoRendimenti!$C$6,C107*100,0))*ConfrontoRendimenti!$C$7/100 -> 0 | E107: =IF(E106=0,0,IF(E106=ConfrontoRendimenti!$D$6,0,EDATE(E106,12/ConfrontoRendimenti!$D$13))) -> 0 | F107: =IF(ConfrontoRendimenti!$D$13=0,0,IF(E107=0,0,ConfrontoRendimenti!$D$15/ConfrontoRendimenti!$D$13)) -> 0 | G107: =IF(E107=ConfrontoRendimenti!$D$6,F107*100+ConfrontoRendimenti!$D$12,IF(E107<ConfrontoRendimenti!$D$6,F107*100,0))*ConfrontoRendimenti!$D$7/100 -> 0
B108: =IF(B107=0,0,IF(B107=ConfrontoRendimenti!$C$6,0,EDATE(B107,12/ConfrontoRendimenti!$C$13))) -> 0 | C108: =IF(ConfrontoRendimenti!$C$13=0,0,IF(B108=0,0,ConfrontoRendimenti!$C$15/ConfrontoRendimenti!$C$13)) -> 0 | D108: =IF(B108=ConfrontoRendimenti!$C$6,C108*100+ConfrontoRendimenti!$C$12,IF(B108<ConfrontoRendimenti!$C$6,C108*100,0))*ConfrontoRendimenti!$C$7/100 -> 0 | E108: =IF(E107=0,0,IF(E107=ConfrontoRendimenti!$D$6,0,EDATE(E107,12/ConfrontoRendimenti!$D$13))) -> 0 | F108: =IF(ConfrontoRendimenti!$D$13=0,0,IF(E108=0,0,ConfrontoRendimenti!$D$15/ConfrontoRendimenti!$D$13)) -> 0 | G108: =IF(E108=ConfrontoRendimenti!$D$6,F108*100+ConfrontoRendimenti!$D$12,IF(E108<ConfrontoRendimenti!$D$6,F108*100,0))*ConfrontoRendimenti!$D$7/100 -> 0
B109: =IF(B108=0,0,IF(B108=ConfrontoRendimenti!$C$6,0,EDATE(B108,12/ConfrontoRendimenti!$C$13))) -> 0 | C109: =IF(ConfrontoRendimenti!$C$13=0,0,IF(B109=0,0,ConfrontoRendimenti!$C$15/ConfrontoRendimenti!$C$13)) -> 0 | D109: =IF(B109=ConfrontoRendimenti!$C$6,C109*100+ConfrontoRendimenti!$C$12,IF(B109<ConfrontoRendimenti!$C$6,C109*100,0))*ConfrontoRendimenti!$C$7/100 -> 0 | E109: =IF(E108=0,0,IF(E108=ConfrontoRendimenti!$D$6,0,EDATE(E108,12/ConfrontoRendimenti!$D$13))) -> 0 | F109: =IF(ConfrontoRendimenti!$D$13=0,0,IF(E109=0,0,ConfrontoRendimenti!$D$15/ConfrontoRendimenti!$D$13)) -> 0 | G109: =IF(E109=ConfrontoRendimenti!$D$6,F109*100+ConfrontoRendimenti!$D$12,IF(E109<ConfrontoRendimenti!$D$6,F109*100,0))*ConfrontoRendimenti!$D$7/100 -> 0
B110: =IF(B109=0,0,IF(B109=ConfrontoRendimenti!$C$6,0,EDATE(B109,12/ConfrontoRendimenti!$C$13))) -> 0 | C110: =IF(ConfrontoRendimenti!$C$13=0,0,IF(B110=0,0,ConfrontoRendimenti!$C$15/ConfrontoRendimenti!$C$13)) -> 0 | D110: =IF(B110=ConfrontoRendimenti!$C$6,C110*100+ConfrontoRendimenti!$C$12,IF(B110<ConfrontoRendimenti!$C$6,C110*100,0))*ConfrontoRendimenti!$C$7/100 -> 0 | E110: =IF(E109=0,0,IF(E109=ConfrontoRendimenti!$D$6,0,EDATE(E109,12/ConfrontoRendimenti!$D$13))) -> 0 | F110: =IF(ConfrontoRendimenti!$D$13=0,0,IF(E110=0,0,ConfrontoRendimenti!$D$15/ConfrontoRendimenti!$D$13)) -> 0 | G110: =IF(E110=ConfrontoRendimenti!$D$6,F110*100+ConfrontoRendimenti!$D$12,IF(E110<ConfrontoRendimenti!$D$6,F110*100,0))*ConfrontoRendimenti!$D$7/100 -> 0
... B230: =IF(B229=0,0,IF(B229=ConfrontoRendimenti!$C$6,0,EDATE(B229,12/ConfrontoRendimenti!$C$13))) -> 0 | C230: =IF(ConfrontoRendimenti!$C$13=0,0,IF(B230=0,0,ConfrontoRendimenti!$C$15/ConfrontoRendimenti!$C$13)) -> 0 | D230: =IF(B230=ConfrontoRendimenti!$C$6,C230*100+ConfrontoRendimenti!$C$12,IF(B230<ConfrontoRendimenti!$C$6,C230*100,0))*ConfrontoRendimenti!$C$7/100 -> 0 | E230: =IF(E229=0,0,IF(E229=ConfrontoRendimenti!$D$6,0,EDATE(E229,12/ConfrontoRendimenti!$D$13))) -> 0 | F230: =IF(ConfrontoRendimenti!$D$13=0,0,IF(E230=0,0,ConfrontoRendimenti!$D$15/ConfrontoRendimenti!$D$13)) -> 0 | G230: =IF(E230=ConfrontoRendimenti!$D$6,F230*100+ConfrontoRendimenti!$D$12,IF(E230<ConfrontoRendimenti!$D$6,F230*100,0))*ConfrontoRendimenti!$D$7/100 -> 0

Sheet Parametri
A1: Periodicità
A2: Annuale | B2: 1
A3: Semestrale | B3: 2
A5: Tip.di investimento | B5: Tassazione
A6: Titoli di Stato della Comunità Europea ed equiparati | B6: 0.125
A7: Obblig. emesse da Società quotate nuova tass. | B7: 0.26
